BEGIN:VCALENDAR
VERSION:2.0
PRODID:-//ChamberMaster//Event Calendar 2.0//EN
METHOD:PUBLISH
X-PUBLISHED-TTL:P3D
REFRESH-INTERVAL:P3D
CALSCALE:GREGORIAN
BEGIN:VEVENT
DTSTART:20260514T130000Z
DTEND:20260514T141500Z
X-MICROSOFT-CDO-ALLDAYEVENT:FALSE
SUMMARY:Tech Talk Workshop: AI for the Rest of Us: How to Get 10 Hours of Your Week Back
DESCRIPTION:AI for the Rest of US: How to Get 10 Hours of Your Week Back\n\nDo you feel like you're constantly drowning in emails\, social media posts\, and digital chores? Join Matthew Harrison\, founder of New Leaf Web Development\, on May 14th to learn how to put AI to work for your business. This isn't a technical lecture\; it is a practical guide for the busy business owner. We'll show you how to use simple AI tools to write your newsletters\, respond to reviews\, and manage your schedule so you can get back to doing the work you actually love. Register today! Space is limited!
X-ALT-DESC;FMTTYPE=text/html:<span data-olk-copy-source="MessageBody" style="border: 0px\; font-variant-numeric: inherit\; font-variant-east-asian: inherit\; font-variant-alternates: inherit\; font-variant-position: inherit\; font-variant-emoji: inherit\; font-stretch: inherit\; font-size: medium\; line-height: inherit\; font-family: Arial\; font-optical-sizing: inherit\; font-size-adjust: inherit\; font-kerning: none\; font-feature-settings: inherit\; font-variation-settings: inherit\; font-language-override: inherit\; margin: 0px\; padding: 0px\; vertical-align: baseline\; color: rgb(0\, 0\, 0)\;">AI for the Rest of US: How to Get 10 Hours of Your Week Back<br />\nDo you feel like you&rsquo\;re constantly drowning in emails\, social media posts\, and digital chores? Join&nbsp\;</span><span style="border: 0px\; font-variant-numeric: inherit\; font-variant-east-asian: inherit\; font-variant-alternates: inherit\; font-variant-position: inherit\; font-variant-emoji: inherit\; font-stretch: inherit\; font-size: medium\; line-height: inherit\; font-family: Arial\; font-optical-sizing: inherit\; font-size-adjust: inherit\; font-kerning: none\; font-feature-settings: inherit\; font-variation-settings: inherit\; font-language-override: inherit\; margin: 0px\; padding: 0px\; vertical-align: baseline\; color: rgb(0\, 0\, 0)\;">Matthew Harrison</span><span style="border: 0px\; font-variant-numeric: inherit\; font-variant-east-asian: inherit\; font-variant-alternates: inherit\; font-variant-position: inherit\; font-variant-emoji: inherit\; font-stretch: inherit\; font-size: medium\; line-height: inherit\; font-family: Arial\; font-optical-sizing: inherit\; font-size-adjust: inherit\; font-kerning: none\; font-feature-settings: inherit\; font-variation-settings: inherit\; font-language-override: inherit\; margin: 0px\; padding: 0px\; vertical-align: baseline\; color: rgb(0\, 0\, 0)\;">\, founder of&nbsp\;</span><span style="border: 0px\; font-variant-numeric: inherit\; font-variant-east-asian: inherit\; font-variant-alternates: inherit\; font-variant-position: inherit\; font-variant-emoji: inherit\; font-stretch: inherit\; font-size: medium\; line-height: inherit\; font-family: Arial\; font-optical-sizing: inherit\; font-size-adjust: inherit\; font-kerning: none\; font-feature-settings: inherit\; font-variation-settings: inherit\; font-language-override: inherit\; margin: 0px\; padding: 0px\; vertical-align: baseline\; color: rgb(0\, 0\, 0)\;">New Leaf Web Development</span><span style="border: 0px\; font-variant-numeric: inherit\; font-variant-east-asian: inherit\; font-variant-alternates: inherit\; font-variant-position: inherit\; font-variant-emoji: inherit\; font-stretch: inherit\; font-size: medium\; line-height: inherit\; font-family: Arial\; font-optical-sizing: inherit\; font-size-adjust: inherit\; font-kerning: none\; font-feature-settings: inherit\; font-variation-settings: inherit\; font-language-override: inherit\; margin: 0px\; padding: 0px\; vertical-align: baseline\; color: rgb(0\, 0\, 0)\;">\, on&nbsp\;</span><span style="border: 0px\; font-variant-numeric: inherit\; font-variant-east-asian: inherit\; font-variant-alternates: inherit\; font-variant-position: inherit\; font-variant-emoji: inherit\; font-stretch: inherit\; font-size: medium\; line-height: inherit\; font-family: Arial\; font-optical-sizing: inherit\; font-size-adjust: inherit\; font-kerning: none\; font-feature-settings: inherit\; font-variation-settings: inherit\; font-language-override: inherit\; margin: 0px\; padding: 0px\; vertical-align: baseline\; color: rgb(0\, 0\, 0)\;">May 14th</span><span style="border: 0px\; font-variant-numeric: inherit\; font-variant-east-asian: inherit\; font-variant-alternates: inherit\; font-variant-position: inherit\; font-variant-emoji: inherit\; font-stretch: inherit\; font-size: medium\; line-height: inherit\; font-family: Arial\; font-optical-sizing: inherit\; font-size-adjust: inherit\; font-kerning: none\; font-feature-settings: inherit\; font-variation-settings: inherit\; font-language-override: inherit\; margin: 0px\; padding: 0px\; vertical-align: baseline\; color: rgb(0\, 0\, 0)\;">&nbsp\;to learn how to put AI to work for your business. This isn&#39\;t a technical lecture\; it is a practical guide for the busy business owner. We&rsquo\;ll show you how to use simple AI tools to write your newsletters\, respond to reviews\, and manage your schedule so you can get back to doing the work you actually love. Register today! Space is limited!</span>
LOCATION:Bunnelle Center 95 Centermarsh Lane Pawleys Island
UID:e.157.26420
SEQUENCE:3
DTSTAMP:20260423T132447Z
URL:https://www.visitgeorge.com/events/details/tech-talk-workshop-ai-for-the-rest-of-us-how-to-get-10-hours-of-your-week-back-26420
END:VEVENT

END:VCALENDAR
