BEGIN:VCALENDAR
VERSION:2.0
PRODID:-//ChamberMaster//Event Calendar 2.0//EN
METHOD:PUBLISH
X-PUBLISHED-TTL:P3D
REFRESH-INTERVAL:P3D
CALSCALE:GREGORIAN
BEGIN:VEVENT
DTSTART:20260621T230000Z
DTEND:20260622T003000Z
X-MICROSOFT-CDO-ALLDAYEVENT:FALSE
SUMMARY:Steve Earle: 51 Years of Songs & Stories
DESCRIPTION:Steve Earle is a true American original one of the most influential singer-songwriters of his generation and a defining voice in Americana music. A prot g  of Townes Van Zandt and Guy Clark\, Earle burst onto the scene with Guitar Town\, the chart-topping 1986 album that launched a decades-long career built on fearless songwriting and unforgettable live performances. His songs have been recorded by legends including Johnny Cash\, Waylon Jennings\, Emmylou Harris\, and Joan Baez\, and his iconic anthem "Copperhead Road" was named an official Tennessee state song in 2023.\n\nA multiple GRAMMY  Award winner and electrifying live performer\, Earle continues to command the stage with raw storytelling\, grit\, and heart. His most recent release\, Alone Again (Live) (2024)\, captures the power of his performances\, where no two nights are ever the same. With honors including induction into the Nashville Songwriters Hall of Fame and the Grand Ole Opry\, a Steve Earle concert isn't just a show it's a night with one of American music's most enduring voices.\n\nIf you love powerful storytelling\, roots-driven Americana\, and songs that hit a little deeper\, this is a concert you won't want to miss.\n\nSteve Earle   51 Years of Songs & Stories will be live at The Carolina Opry Theater on Sunday\, June 21\, 2026 at 7:00pm. Tickets are on sale now. To buy tickets visit our website at https://thecarolinaopry.com/concerts\, call 800-843-6779 or visit the box office.
X-ALT-DESC;FMTTYPE=text/html:Steve Earle is a true American original&mdash\;one of the most influential singer-songwriters of his generation and a defining voice in Americana music. A prot&eacute\;g&eacute\; of Townes Van Zandt and Guy Clark\, Earle burst onto the scene with Guitar Town\, the chart-topping 1986 album that launched a decades-long career built on fearless songwriting and unforgettable live performances. His songs have been recorded by legends including Johnny Cash\, Waylon Jennings\, Emmylou Harris\, and Joan Baez\, and his iconic anthem &ldquo\;Copperhead Road&rdquo\; was named an official Tennessee state song in 2023.<br />\nA multiple GRAMMY&reg\; Award winner and electrifying live performer\, Earle continues to command the stage with raw storytelling\, grit\, and heart. His most recent release\, Alone Again (Live) (2024)\, captures the power of his performances\, where no two nights are ever the same. With honors including induction into the Nashville Songwriters Hall of Fame and the Grand Ole Opry\, a Steve Earle concert isn&rsquo\;t just a show&mdash\;it&rsquo\;s a night with one of American music&rsquo\;s most enduring voices.<br />\nIf you love powerful storytelling\, roots-driven Americana\, and songs that hit a little deeper\, this is a concert you won&rsquo\;t want to miss.<br />\nSteve Earle &ndash\; 51 Years of Songs &amp\; Stories will be live at The Carolina Opry Theater on Sunday\, June 21\, 2026 at 7:00pm. Tickets are on sale now. To buy tickets visit our website at <a href="https://thecarolinaopry.com/concerts">https://thecarolinaopry.com/concerts</a>\, call 800-843-6779 or visit the box office.<br />\n&nbsp\;
LOCATION:The Carolina Opry Theater 8901 N. Kings Hwy. Myrtle Beach\, SC 29572
UID:e.157.26473
SEQUENCE:3
DTSTAMP:20260423T094746Z
URL:https://www.visitgeorge.com/events/details/steve-earle-51-years-of-songs-stories-26473
END:VEVENT

END:VCALENDAR
