BEGIN:VCALENDAR
VERSION:2.0
PRODID:-//ChamberMaster//Event Calendar 2.0//EN
METHOD:PUBLISH
X-PUBLISHED-TTL:P3D
REFRESH-INTERVAL:P3D
CALSCALE:GREGORIAN
BEGIN:VEVENT
DTSTART:20251113T133000Z
DTEND:20251113T160000Z
X-MICROSOFT-CDO-ALLDAYEVENT:FALSE
SUMMARY:State of Our Community 2025
DESCRIPTION:Join us for the Georgetown County Chamber of Commerce's State of Our Community program   now in a dynamic talk-show format featuring award-winning journalist Hannah Hall as moderator.\n\nThis year's program will spotlight the latest updates\, priorities\, and collaborative initiatives shaping the future of our region. Invited guests include:\n\n\n	Mayor Carol Jayroe and Administrator Scott Whittier\, City of Georgetown\n	Mayor Frank McClary and Administrator Mauretta Wilson\, Town of Andrews\n	Mayor Brian Henry and Administrator Daniel Newquist\, Town of Pawleys Island\n	County Council Chair Clint Elliott and Administrator Angela Christian\n\n\nExpect a dynamic conversation on growth\, infrastructure\, economic development\, tourism\, and quality of life   with opportunities to hear directly from those leading our communities.\n\n\n\nThis event typically sells out   don't miss your chance to be part of this important annual gathering of business\, civic\, and community leaders.\n\n\n\nAsk a Question:  Have something you'd like our leaders to address? Submit your question in advance through the link below or join the discussion live during the program!\n\n  Submit a Question\n\n\n\nReserve Your Seat: Space is limited   register early to secure your spot.
X-ALT-DESC;FMTTYPE=text/html:<p data-end="444" data-start="246"><span style="font-size:14px\;"><span style="font-family:tahoma\;">Join us for the Georgetown County Chamber of Commerce&rsquo\;s<strong> State of Our Community </strong>program &mdash\; now in a dynamic talk-show format featuring award-winning journalist Hannah Hall as moderator.</span></span></p>\n\n<p data-end="602" data-start="446"><span style="font-size:14px\;"><span style="font-family:tahoma\;">This year&rsquo\;s program will spotlight the latest updates\, priorities\, and collaborative initiatives shaping the future of our region. Invited guests include:</span></span></p>\n\n<ul>\n	<li data-end="721" data-start="605"><span style="font-size:14px\;"><span style="font-family:tahoma\;">Mayor Carol Jayroe and Administrator Scott Whittier\, City of Georgetown</span></span></li>\n	<li data-end="721" data-start="605"><span style="font-size:14px\;"><span style="font-family:tahoma\;">Mayor Frank McClary and Administrator Mauretta Wilson\, Town of Andrews</span></span></li>\n	<li data-end="721" data-start="605"><span style="font-size:14px\;"><span style="font-family:tahoma\;">Mayor Brian Henry and Administrator Daniel Newquist\, Town of Pawleys Island</span></span></li>\n	<li data-end="721" data-start="605"><span style="font-size:14px\;"><span style="font-family:tahoma\;">County Council Chair Clint Elliott and Administrator Angela Christian</span></span></li>\n</ul>\n\n<p data-end="990" data-start="804"><span style="font-size:14px\;"><span style="font-family:tahoma\;">Expect a dynamic conversation on growth\, infrastructure\, economic development\, tourism\, and quality of life &mdash\; with opportunities to hear directly from those leading our communities.</span></span><br />\n<br />\n<span style="font-size:14px\;"><span style="font-family:tahoma\;">This event typically sells out &mdash\; don&rsquo\;t miss your chance to be part of this important annual gathering of business\, civic\, and community leaders.<br />\n<br />\n<strong>Ask a Question:&nbsp\;</strong>&nbsp\;Have something you&rsquo\;d like our leaders to address? Submit your question in advance through the link below or join the discussion live during the program!</span></span></p>\n\n<p data-end="1138" data-start="992"><span style="font-family: tahoma\; font-size: 14px\;">&#128172\;</span><a href="https://www.surveymonkey.com/r/TXPQD73" style="font-family: tahoma\; font-size: 14px\;" target="_new">&nbsp\;<strong>Submit a Question</strong></a><br />\n<br />\n<span style="font-size:14px\;"><span style="font-family:tahoma\;">Reserve Your Seat:&nbsp\;Space is limited &mdash\; register early to secure your spot.</span></span></p>\n
LOCATION:Winyah Auditorium 1200 Highmarket St. Georgetown\, SC
UID:e.157.25385
SEQUENCE:3
DTSTAMP:20260421T182326Z
URL:https://www.visitgeorge.com/events/details/state-of-our-community-2025-25385
END:VEVENT

END:VCALENDAR
