BEGIN:VCALENDAR
VERSION:2.0
PRODID:-//ChamberMaster//Event Calendar 2.0//EN
METHOD:PUBLISH
X-PUBLISHED-TTL:P3D
REFRESH-INTERVAL:P3D
CALSCALE:GREGORIAN
BEGIN:VEVENT
DTSTART:20210313T150000Z
DTEND:20210313T200000Z
X-MICROSOFT-CDO-ALLDAYEVENT:FALSE
SUMMARY:St. Patrick's Day Brunch at Rustic Table
DESCRIPTION:Join us for Live Music with Jimmy Mowery from 12:30 - 3:30 on our covered outdoor patio!  Offering Drink Specials and Irish Fare!\n\nReservations Recommended | Walk Ins Welcomed\n\n(843) 314- 0164 | www.rustictable.com
X-ALT-DESC;FMTTYPE=text/html:<div class="kvgmc6g5 cxmmr5t8 oygrvhab hcukyx3x c1et5uql" style="overflow-wrap: break-word\; margin: 0px\; font-family: &quot\;Segoe UI Historic&quot\;\, &quot\;Segoe UI&quot\;\, Helvetica\, Arial\, sans-serif\; color: rgb(5\, 5\, 5)\; font-size: 15px\; background-color: rgb(255\, 255\, 255)\;">Join us for Live Music with Jimmy Mowery from 12:30 - 3:30 on our covered outdoor patio!&nbsp\;&nbsp\;Offering Drink Specials and Irish Fare!</div>\n\n<div class="o9v6fnle cxmmr5t8 oygrvhab hcukyx3x c1et5uql" style="overflow-wrap: break-word\; margin: 0.5em 0px 0px\; font-family: &quot\;Segoe UI Historic&quot\;\, &quot\;Segoe UI&quot\;\, Helvetica\, Arial\, sans-serif\; color: rgb(5\, 5\, 5)\; font-size: 15px\; background-color: rgb(255\, 255\, 255)\;">Reservations Recommended | Walk Ins Welcomed<br />\n(843) 314- 0164 |&nbsp\;<a class="oajrlxb2 g5ia77u1 qu0x051f esr5mh6w e9989ue4 r7d6kgcz rq0escxv nhd2j8a9 nc684nl6 p7hjln8o kvgmc6g5 cxmmr5t8 oygrvhab hcukyx3x jb3vyjys rz4wbd8a qt6c0cv9 a8nywdso i1ao9s8h esuyzwwr f1sip0of lzcic4wl py34i1dx gpro0wi8" href="http://www.rustictable.com/?fbclid=IwAR0Qz6852iqMVSGFvl3tfIy51B163RZFyxlTFUK2AdbmPt7O1yWmnhd0Up0" rel="nofollow noopener" role="link" style="cursor: pointer\; text-decoration-line: none\; outline: none\; list-style: none\; border-width: 0px\; border-style: initial\; border-color: initial\; padding: 0px\; margin: 0px\; touch-action: manipulation\; background-color: transparent\; text-align: inherit\; display: inline\; -webkit-tap-highlight-color: transparent\; box-sizing: border-box\; font-family: inherit\;" tabindex="0" target="_blank">www.rustictable.com</a>&nbsp\;</div>\n
LOCATION:Rustic Table Pawleys Island\, SC
UID:e.157.11855
SEQUENCE:3
DTSTAMP:20260423T161256Z
URL:https://www.visitgeorge.com/events/details/st-patrick-s-day-brunch-at-rustic-table-11855
END:VEVENT

END:VCALENDAR
