BEGIN:VCALENDAR
VERSION:2.0
PRODID:-//ChamberMaster//Event Calendar 2.0//EN
METHOD:PUBLISH
X-PUBLISHED-TTL:P3D
REFRESH-INTERVAL:P3D
CALSCALE:GREGORIAN
BEGIN:VEVENT
DTSTART:20210315T140000Z
DTEND:20210315T170000Z
X-MICROSOFT-CDO-ALLDAYEVENT:FALSE
SUMMARY:SANDY ISLAND\, WITH SUSAN MCMILLIAN HISTORIAN AND ARCHEOLOGIST
DESCRIPTION:Sandy Island\, South Carolina is the largest undeveloped freshwater island along the Eastern Seaboard. Susan McMillian has a passion for coastal South Carolina history and has led archeological digs on former Georgetown County rice plantations\, including Brookgreen. Join Susan as she takes you on a photographic and historic exploration of Sandy Island.
X-ALT-DESC;FMTTYPE=text/html:<span style="color: rgb(18\, 35\, 1)\; font-family: Roboto\, Helvetica\, Arial\, sans-serif\; font-size: 16px\; background-color: rgb(255\, 255\, 255)\;">Sandy Island\, South Carolina is the largest undeveloped freshwater island along the Eastern Seaboard. Susan McMillian has a passion for coastal South Carolina history and has led archeological digs on former Georgetown County rice plantations\, including Brookgreen. Join Susan as she takes you on a photographic and historic exploration of Sandy Island.</span>
LOCATION:Virtual Event. Register HERE.
UID:e.157.10766
SEQUENCE:3
DTSTAMP:20260423T162655Z
URL:https://www.visitgeorge.com/events/details/sandy-island-with-susan-mcmillian-historian-and-archeologist-10766
END:VEVENT

END:VCALENDAR
