BEGIN:VCALENDAR
VERSION:2.0
PRODID:-//ChamberMaster//Event Calendar 2.0//EN
METHOD:PUBLISH
X-PUBLISHED-TTL:P3D
REFRESH-INTERVAL:P3D
CALSCALE:GREGORIAN
BEGIN:VEVENT
DTSTART:20260423T150000Z
DTEND:20260423T180000Z
X-MICROSOFT-CDO-ALLDAYEVENT:FALSE
SUMMARY:Sandy Island River Tour
DESCRIPTION:Travel with Storehouse Tours and Paul Kenny and Historian Lee Brockington to visit Sandy Island and learn its island environs. This Pontoon River Tour will take you to the Sandy Island boat landing\, then a walk onto the sandy road leading to Wilma Cottage for a Southern mid-day supper with Laura Herriott. Visit the church and school\, then continue on your pontoon tour to other areas of Sandy Island. **This tour is $160.00 per person and includes a meal.**
X-ALT-DESC;FMTTYPE=text/html:Travel with <a href="https://www.facebook.com/p/Storehouse-Tours-61577939132387/">Storehouse Tours</a> and Paul Kenny and Historian Lee Brockington to visit Sandy Island and learn its island environs. This Pontoon River Tour will take you to the Sandy Island boat landing\, then a walk onto the sandy road leading to Wilma Cottage for a Southern mid-day supper with Laura Herriott. Visit the church and school\, then continue on your pontoon tour to other areas of Sandy Island. **This tour is $160.00 per person and includes a meal.**
LOCATION:Departs from Hagley Landing in Pawleys Island.
UID:e.157.25787
SEQUENCE:3
DTSTAMP:20260419T162449Z
URL:https://www.visitgeorge.com/events/details/sandy-island-river-tour-25787
END:VEVENT

END:VCALENDAR
