BEGIN:VCALENDAR
VERSION:2.0
PRODID:-//ChamberMaster//Event Calendar 2.0//EN
METHOD:PUBLISH
X-PUBLISHED-TTL:P3D
REFRESH-INTERVAL:P3D
CALSCALE:GREGORIAN
BEGIN:VEVENT
DTSTART:20260723T190000Z
DTEND:20260723T193000Z
X-MICROSOFT-CDO-ALLDAYEVENT:FALSE
SUMMARY:Ribbon Cutting: Positively Primeval Cocktail Co. - One Year!
DESCRIPTION:t's Time for a Ribbon- Cutting!\nJoin us as we celebrate the one-year anniversary of Positively Primeval Cocktail Co.! \n\nAt Positively Primeval Cocktail Co.\, they believe in crafting unforgettable experiences. Nestled in the heart of the city\, this inviting bar has become a haven for cocktail enthusiasts and casual drinkers alike. Guests can explore an extensive menu of signature cocktails each crafted with precision and passion. From timeless classics to creative\, innovative mixes\, there's truly something for everyone.\n\nCome raise a glass with us and help celebrate this exciting milestone!
X-ALT-DESC;FMTTYPE=text/html:<span style="font-size:14px\;"><span style="font-family:arial\;">&nbsp\; &nbsp\; &nbsp\; &nbsp\; &nbsp\; &nbsp\; &nbsp\; &nbsp\; &nbsp\; &nbsp\; &nbsp\; t&#39\;s Time for a Ribbon- Cutting!</span></span>\n<p data-end="87" data-start="45"><span style="font-size:14px\;"><span style="font-family:arial\;">Join us as we celebrate the one-year anniversary of Positively Primeval Cocktail Co.!&nbsp\;</span></span></p>\n\n<p data-end="587" data-start="181"><span style="font-size:14px\;"><span style="font-family:arial\;">At Positively Primeval Cocktail Co.\, they believe in crafting unforgettable experiences. Nestled in the heart of the city\, this inviting bar has become a haven for cocktail enthusiasts and casual drinkers alike. Guests can explore an extensive menu of signature cocktails&mdash\;each crafted with precision and passion. From timeless classics to creative\, innovative mixes\, there&rsquo\;s truly something for everyone.</span></span></p>\n\n<p data-end="664" data-start="589"><span style="font-size:14px\;"><span style="font-family:arial\;">Come raise a glass with us and help celebrate this exciting milestone! &#127864\;</span></span></p>\n
LOCATION:Positively Primeval Cocktail Co. 801 Front St. Georgetown\, SC 29440
UID:e.157.26681
SEQUENCE:3
DTSTAMP:20260424T175722Z
URL:https://www.visitgeorge.com/events/details/ribbon-cutting-positively-primeval-cocktail-co-one-year-26681
END:VEVENT

END:VCALENDAR
