BEGIN:VCALENDAR
VERSION:2.0
PRODID:-//ChamberMaster//Event Calendar 2.0//EN
METHOD:PUBLISH
X-PUBLISHED-TTL:P3D
REFRESH-INTERVAL:P3D
CALSCALE:GREGORIAN
BEGIN:VEVENT
DTSTART:20231011T200000Z
DTEND:20231011T210000Z
X-MICROSOFT-CDO-ALLDAYEVENT:FALSE
SUMMARY:Ribbon Cutting / 2-Year Anniversary Party: KNK Academy of Cosmetic Arts
DESCRIPTION:Join us as we celebrate the 2-Year Anniversary of KNK Academy of Cosmetic Arts!    Embark on a rewarding career in the Beauty Industry - learn about the exciting programs in Nail Technology\, Esthetics and Instruction! Support this locally owned business!!
X-ALT-DESC;FMTTYPE=text/html:Join us as we celebrate the 2-Year Anniversary of <a href="https://www.knkacademyofcosmeticarts.com/">KNK Academy of Cosmetic Arts!&nbsp\;&nbsp\;</a>&nbsp\;<span style="color: rgb(5\, 5\, 5)\; font-family: &quot\;Segoe UI Historic&quot\;\, &quot\;Segoe UI&quot\;\, Helvetica\, Arial\, sans-serif\; font-size: 15px\; white-space-collapse: preserve\; background-color: rgb(255\, 255\, 255)\;"> Embark on a rewarding career in the Beauty Industry - learn about the exciting programs in Nail Technology\, Esthetics and Instruction! Support this locally owned business!! </span>
LOCATION:KNK Academy of Cosmetic Arts 21 Garden Street Georgetown\, SC
UID:e.157.16604
SEQUENCE:3
DTSTAMP:20260420T231457Z
URL:https://www.visitgeorge.com/events/details/ribbon-cutting-2-year-anniversary-party-knk-academy-of-cosmetic-arts-16604
END:VEVENT

END:VCALENDAR
