BEGIN:VCALENDAR
VERSION:2.0
PRODID:-//ChamberMaster//Event Calendar 2.0//EN
METHOD:PUBLISH
X-PUBLISHED-TTL:P3D
REFRESH-INTERVAL:P3D
CALSCALE:GREGORIAN
BEGIN:VEVENT
DTSTART:20220120T203000Z
DTEND:20220120T213000Z
X-MICROSOFT-CDO-ALLDAYEVENT:FALSE
SUMMARY:RESCHEDULED: Tourism Management Commission Meeting - Virtual - January 2022
DESCRIPTION:The Tourism Management Commission will reschedule the January meeting originally set for January 20\, 2022.\n\n\n\nQuestions? Call the Georgetown County Chamber of Commerce at 843.546.8436.
X-ALT-DESC;FMTTYPE=text/html:The Tourism Management Commission will reschedule the January meeting originally set for January 20\, 2022.<br />\n<br />\nQuestions? Call the Georgetown County Chamber of Commerce at 843.546.8436.
LOCATION:
UID:e.157.14256
SEQUENCE:3
DTSTAMP:20260423T054125Z
URL:https://www.visitgeorge.com/events/details/rescheduled-tourism-management-commission-meeting-virtual-january-2022-14256
END:VEVENT

END:VCALENDAR
