BEGIN:VCALENDAR
VERSION:2.0
PRODID:-//ChamberMaster//Event Calendar 2.0//EN
METHOD:PUBLISH
X-PUBLISHED-TTL:P3D
REFRESH-INTERVAL:P3D
CALSCALE:GREGORIAN
BEGIN:VEVENT
DTSTART:20210313T180000Z
DTEND:20210313T190000Z
X-MICROSOFT-CDO-ALLDAYEVENT:FALSE
SUMMARY:Reign of Rice Lecture Series - Perpetuating Rice Heritage through the Arts
DESCRIPTION:Through Visual Art - \n\nVictoria Smalls\, a visual artist\, cultural preservationist\, and public historian of St. Helena Island\, SC\, will speak on Gullah Geechee art and its West African influences and similarities.
X-ALT-DESC;FMTTYPE=text/html:<p style="box-sizing: border-box\; margin: 1.25rem 0px\; line-height: 1.4\; color: rgb(18\, 35\, 1)\; font-family: Roboto\, Helvetica\, Arial\, sans-serif\; font-size: 16px\; background-color: rgb(255\, 255\, 255)\;"><em style="box-sizing: border-box\;">Through Visual&nbsp\;</em><em style="box-sizing: border-box\;">Art -&nbsp\;</em><br />\nVictoria Smalls\, a visual artist\, cultural preservationist\, and public historian of St. Helena Island\, SC\, will speak on Gullah Geechee art and its West African influences and similarities.</p>\n\n<p style="box-sizing: border-box\; margin: 1.25rem 0px\; line-height: 1.4\; color: rgb(18\, 35\, 1)\; font-family: Roboto\, Helvetica\, Arial\, sans-serif\; font-size: 16px\; background-color: rgb(255\, 255\, 255)\;">&nbsp\;</p>\n
LOCATION:Virtual. To register for the online event\, please click HERE.
UID:e.157.10765
SEQUENCE:3
DTSTAMP:20260423T162302Z
URL:https://www.visitgeorge.com/events/details/reign-of-rice-lecture-series-perpetuating-rice-heritage-through-the-arts-10765
END:VEVENT

END:VCALENDAR
