BEGIN:VCALENDAR
VERSION:2.0
PRODID:-//ChamberMaster//Event Calendar 2.0//EN
METHOD:PUBLISH
X-PUBLISHED-TTL:P3D
REFRESH-INTERVAL:P3D
CALSCALE:GREGORIAN
BEGIN:VEVENT
DTSTART;VALUE=DATE:20210422
DTEND;VALUE=DATE:20210423
TRANSP:TRANSPARENT
X-MICROSOFT-CDO-ALLDAYEVENT:TRUE
SUMMARY:POSTPONED: Georgetown County Chamber of Commerce Chairman's Luncheon
DESCRIPTION:We look forward to honoring our area leaders for their outstanding contributions to Georgetown County.
X-ALT-DESC;FMTTYPE=text/html:We look forward to honoring our area leaders for their outstanding contributions to Georgetown County.
LOCATION:Pawleys Plantation 70 Tanglewood Drive Pawleys Island\, SC
UID:e.157.10003
SEQUENCE:3
DTSTAMP:20260420T110017Z
URL:https://www.visitgeorge.com/events/details/postponed-georgetown-county-chamber-of-commerce-chairman-s-luncheon-10003
END:VEVENT

END:VCALENDAR
