BEGIN:VCALENDAR
VERSION:2.0
PRODID:-//ChamberMaster//Event Calendar 2.0//EN
METHOD:PUBLISH
X-PUBLISHED-TTL:P3D
REFRESH-INTERVAL:P3D
CALSCALE:GREGORIAN
BEGIN:VEVENT
DTSTART:20230908T140000Z
DTEND:20230908T150000Z
X-MICROSOFT-CDO-ALLDAYEVENT:FALSE
SUMMARY:Pine Needle Basket Weaving Class
DESCRIPTION:Join us at the Waccamaw Neck Branch Library in Pawleys Island for this beginners course on creating baskets by weaving pine needles.  The class is taught by artist Donna Davis.  All supplies provided.
X-ALT-DESC;FMTTYPE=text/html:<div class="xdj266r x11i5rnm xat24cr x1mh8g0r x1vvkbs" style="margin: 0px\; overflow-wrap: break-word\; font-family: &quot\;Segoe UI Historic&quot\;\, &quot\;Segoe UI&quot\;\, Helvetica\, Arial\, sans-serif\; color: rgb(5\, 5\, 5)\; font-size: 15px\; background-color: rgb(255\, 255\, 255)\;">Join us at the Waccamaw Neck Branch Library in Pawleys Island for this&nbsp\;beginners course on creating baskets by weaving pine needles.&nbsp\; The class is taught by artist Donna Davis.&nbsp\; All supplies provided.</div>\n
LOCATION:Waccamaw Neck Branch Library 41 St. Paul Place Pawleys Island\, SC
UID:e.157.17165
SEQUENCE:3
DTSTAMP:20260420T034537Z
URL:https://www.visitgeorge.com/events/details/pine-needle-basket-weaving-class-17165
END:VEVENT

END:VCALENDAR
