BEGIN:VCALENDAR
VERSION:2.0
PRODID:-//ChamberMaster//Event Calendar 2.0//EN
METHOD:PUBLISH
X-PUBLISHED-TTL:P3D
REFRESH-INTERVAL:P3D
CALSCALE:GREGORIAN
BEGIN:VEVENT
DTSTART:20260420T150000Z
DTEND:20260420T180000Z
X-MICROSOFT-CDO-ALLDAYEVENT:FALSE
SUMMARY:Pee Dee River Tour
DESCRIPTION:Come aboard the canopied pontoon boat Imagine with Storehouse Tours and travel the storied rivers and tributaries feeding Winyah Bay with licensed Captain Paul at the helm and local treasure and historian Lee Brockington imparting histories\, mysteries\, and tidbits of wisdom from the stern. Passing a long line of well known rice plantations of the Pee Dee and Plantersville area\, hear of men and women both the owners and the enslaved\, and learn how rice was produced and why it ended. Attire should include weather appropriate outer wear. *This tour is cane and walker friendly!*
X-ALT-DESC;FMTTYPE=text/html:Come aboard the canopied pontoon boat Imagine with <a href="https://www.facebook.com/p/Storehouse-Tours-61577939132387/">Storehouse Tours</a> and travel the storied rivers and tributaries feeding Winyah Bay with licensed Captain Paul at the helm and local treasure and historian Lee Brockington imparting histories\, mysteries\, and tidbits of wisdom from the stern. Passing a long line of well known rice plantations of the Pee Dee and Plantersville area\, hear of men and women both the owners and the enslaved\, and learn how rice was produced and why it ended. Attire should include weather appropriate outer wear. *This tour is cane and walker friendly!*
LOCATION:Departs from Hagley Landing in Pawleys Island.
UID:e.157.25782
SEQUENCE:3
DTSTAMP:20260419T132241Z
URL:https://www.visitgeorge.com/events/details/pee-dee-river-tour-04-20-2026-25782
END:VEVENT

END:VCALENDAR
