BEGIN:VCALENDAR
VERSION:2.0
PRODID:-//ChamberMaster//Event Calendar 2.0//EN
METHOD:PUBLISH
X-PUBLISHED-TTL:P3D
REFRESH-INTERVAL:P3D
CALSCALE:GREGORIAN
BEGIN:VEVENT
DTSTART:20260409T180000Z
DTEND:20260409T210000Z
X-MICROSOFT-CDO-ALLDAYEVENT:FALSE
SUMMARY:Pee Dee River Tour
DESCRIPTION:Come aboard the canopied pontoon boat Imagine with Storehouse Tours and travel the storied rivers and tributaries feeding Winyah Bay with licensed Captain Paul at the helm and local treasure and historian Lee Brockington imparting histories\, mysteries\, and tidbits of wisdom from the stern. Passing a long line of well known rice plantations of the Pee Dee and Plantersville area\, hear of men and women both the owners and the enslaved\, and learn how rice was produced and why it ended. Attire should include weather appropriate outer wear. *This tour is cane and walker friendly!*
X-ALT-DESC;FMTTYPE=text/html:Come aboard the canopied pontoon boat Imagine with <a href="http://Travel with Storehouse Tours across the Waccamaw River to reach the Pee Dee River on the canopied pontoon boat Imagine with Captain Paul sharing river ecology from the helm. Local treasure and historian Lee Brockington imparts the past\, present and future plans for this pre-Revolutionary War site\, Hasty Point Plantation. Disembark for a tour of the grounds. Attire should include weather-appropriate outer wear and comfortable walking shoes. *This tour involves walking\, standing and uneven surfaces.* Have an early lunch or bring your bag lunch on board!">Storehouse Tours</a> and travel the storied rivers and tributaries feeding Winyah Bay with licensed Captain Paul at the helm and local treasure and historian Lee Brockington imparting histories\, mysteries\, and tidbits of wisdom from the stern. Passing a long line of well known rice plantations of the Pee Dee and Plantersville area\, hear of men and women both the owners and the enslaved\, and learn how rice was produced and why it ended. Attire should include weather appropriate outer wear. *This tour is cane and walker friendly!*
LOCATION:Departs from Hagley Landing in Pawleys Island.
UID:e.157.25781
SEQUENCE:3
DTSTAMP:20260423T082041Z
URL:https://www.visitgeorge.com/events/details/pee-dee-river-tour-04-09-2026-25781
END:VEVENT

END:VCALENDAR
