BEGIN:VCALENDAR
VERSION:2.0
PRODID:-//ChamberMaster//Event Calendar 2.0//EN
METHOD:PUBLISH
X-PUBLISHED-TTL:P3D
REFRESH-INTERVAL:P3D
CALSCALE:GREGORIAN
BEGIN:VEVENT
DTSTART:20240815T191500Z
DTEND:20240815T201500Z
X-MICROSOFT-CDO-ALLDAYEVENT:FALSE
SUMMARY:New Campus Grand Opening & Ribbon Cutting\, Teach My People\, Andrews
DESCRIPTION:Join the Georgetown County Chamber to celebrate the New Campus Grand Opening and Ribbon Cutting for Teach My People\, in Andrews\, SC. Teach My People (TMP) is a Christ-centered\, academically focused afterschool and summer program for students in need\, selected by local teachers\, in Pawleys Island\, Georgetown\, and now in Andrews\, South Carolina.
X-ALT-DESC;FMTTYPE=text/html:<font color="#333333" face="arial"><span style="font-size: 12px\;">Join the Georgetown County Chamber to celebrate the New Campus Grand Opening and Ribbon Cutting for Teach My People\, in Andrews\, SC. Teach My People (TMP) is a Christ-centered\, academically focused afterschool and summer program for students in need\, selected by local teachers\, in Pawleys Island\, Georgetown\, and now in Andrews\, South Carolina.&nbsp\;</span></font>
LOCATION:Teach My People Andrews Elementary School 10372 County Line Road\, Andrews\, SC *Ribbon Cutting will be held in front of the school
UID:e.157.19821
SEQUENCE:3
DTSTAMP:20260423T170809Z
URL:https://www.visitgeorge.com/events/details/new-campus-grand-opening-ribbon-cutting-teach-my-people-andrews-19821
END:VEVENT

END:VCALENDAR
