BEGIN:VCALENDAR
VERSION:2.0
PRODID:-//ChamberMaster//Event Calendar 2.0//EN
METHOD:PUBLISH
X-PUBLISHED-TTL:P3D
REFRESH-INTERVAL:P3D
CALSCALE:GREGORIAN
BEGIN:VEVENT
DTSTART:20260408T150000Z
DTEND:20260408T170000Z
X-MICROSOFT-CDO-ALLDAYEVENT:FALSE
SUMMARY:Hasty Point River Tour
DESCRIPTION:Travel with Storehouse Tours across the Waccamaw River to reach the Pee Dee River on the canopied pontoon boat Imagine with Captain Paul sharing river ecology from the helm. Local treasure and historian Lee Brockington imparts the past\, present and future plans for this pre-Revolutionary War site\, Hasty Point Plantation. Disembark for a tour of the grounds. Attire should include weather-appropriate outer wear and comfortable walking shoes. *This tour involves walking\, standing and uneven surfaces.* Have an early lunch or bring your bag lunch on board!
X-ALT-DESC;FMTTYPE=text/html:Travel with <a href="https://www.facebook.com/p/Storehouse-Tours-61577939132387/">Storehouse Tours</a> across the Waccamaw River to reach the Pee Dee River on the canopied pontoon boat Imagine with Captain Paul sharing river ecology from the helm. Local treasure and historian Lee Brockington imparts the past\, present and future plans for this pre-Revolutionary War site\, Hasty Point Plantation. Disembark for a tour of the grounds. Attire should include weather-appropriate outer wear and comfortable walking shoes. *This tour involves walking\, standing and uneven surfaces.* Have an early lunch or bring your bag lunch on board!
LOCATION:Departs from Hagley Landing in Pawleys Island.
UID:e.157.25780
SEQUENCE:3
DTSTAMP:20260423T093402Z
URL:https://www.visitgeorge.com/events/details/hasty-point-river-tour-04-08-2026-25780
END:VEVENT

END:VCALENDAR
