BEGIN:VCALENDAR
VERSION:2.0
PRODID:-//ChamberMaster//Event Calendar 2.0//EN
METHOD:PUBLISH
X-PUBLISHED-TTL:P3D
REFRESH-INTERVAL:P3D
CALSCALE:GREGORIAN
BEGIN:VEVENT
DTSTART:20240930T163000Z
DTEND:20240930T173000Z
X-MICROSOFT-CDO-ALLDAYEVENT:FALSE
SUMMARY:Grand Opening Ribbon Cutting: Lowcountry Bites
DESCRIPTION:Join us for the Grand Opening Ribbon Cutting of Lowcountry Bites!  Enjoy samples and prize drawings!  Charcuterie Boxes and Boards: Many sizes for all Occasions\, perfect to compliment your celebrations\, events\, date night and so much more!  The trendy way to Elevate your gatherings.
X-ALT-DESC;FMTTYPE=text/html:Join us for the Grand Opening Ribbon Cutting of <a href="https://www.lowcountrybites.com/">Lowcountry Bites</a>!&nbsp\; Enjoy samples and prize drawings!&nbsp\;&nbsp\;<span style="color: rgb(71\, 71\, 71)\; font-family: Roboto\, Arial\, sans-serif\; font-size: 14px\; background-color: rgb(255\, 255\, 255)\;">Charcuterie Boxes and Boards: Many sizes for all Occasions\, perfect to compliment your celebrations\, events\, date night and so much more!&nbsp\;&nbsp\;</span><span style="color: rgba(18\, 18\, 18\, 0.75)\; font-family: Americana\, serif\; font-size: 16px\; letter-spacing: 0.6px\; text-align: center\; background-color: rgb(255\, 255\, 255)\;">The trendy way to Elevate your gatherings.</span>
LOCATION:Georgetown County Chamber of Commerce 28 Wall Street Pawleys Island\, SC
UID:e.157.19902
SEQUENCE:3
DTSTAMP:20260424T010506Z
URL:https://www.visitgeorge.com/events/details/grand-opening-ribbon-cutting-lowcountry-bites-19902
END:VEVENT

END:VCALENDAR
