BEGIN:VCALENDAR
VERSION:2.0
PRODID:-//ChamberMaster//Event Calendar 2.0//EN
METHOD:PUBLISH
X-PUBLISHED-TTL:P3D
REFRESH-INTERVAL:P3D
CALSCALE:GREGORIAN
BEGIN:VEVENT
DTSTART:20260801T220000Z
DTEND:20260802T010000Z
X-MICROSOFT-CDO-ALLDAYEVENT:FALSE
SUMMARY:Georgetown's Music in the Park:
DESCRIPTION:Georgetown's Music in the Park brought to you by the Georgetown Business Association!  Time to Dance Like Nobody's Watching!  Bring your chairs and dancing shoes!
X-ALT-DESC;FMTTYPE=text/html:Georgetown&#39\;s Music in the Park brought to you by the Georgetown Business Association!&nbsp\; Time to Dance Like Nobody&#39\;s Watching!&nbsp\; Bring your chairs and dancing shoes!&nbsp\;
LOCATION:Maritime Park Front Street Georgetown\, SC
UID:e.157.25852
SEQUENCE:3
DTSTAMP:20260425T193324Z
URL:https://www.visitgeorge.com/events/details/georgetown-s-music-in-the-park-25852
END:VEVENT

END:VCALENDAR
