BEGIN:VCALENDAR
VERSION:2.0
PRODID:-//ChamberMaster//Event Calendar 2.0//EN
METHOD:PUBLISH
X-PUBLISHED-TTL:P3D
REFRESH-INTERVAL:P3D
CALSCALE:GREGORIAN
BEGIN:VEVENT
DTSTART;VALUE=DATE:20260912
DTEND;VALUE=DATE:20260914
TRANSP:TRANSPARENT
X-MICROSOFT-CDO-ALLDAYEVENT:TRUE
SUMMARY:Georgetown Art & Wine Walk
DESCRIPTION:Details coming soon!
X-ALT-DESC;FMTTYPE=text/html:<p data-end="316" data-start="143">Details coming soon!</p>\n
LOCATION:Front Street Downtown Historic Georgetown
UID:e.157.25849
SEQUENCE:3
DTSTAMP:20260426T003856Z
URL:https://www.visitgeorge.com/events/details/georgetown-art-wine-walk-25849
END:VEVENT

END:VCALENDAR
