BEGIN:VCALENDAR
VERSION:2.0
PRODID:-//ChamberMaster//Event Calendar 2.0//EN
METHOD:PUBLISH
X-PUBLISHED-TTL:P3D
REFRESH-INTERVAL:P3D
CALSCALE:GREGORIAN
BEGIN:VEVENT
DTSTART;VALUE=DATE:20260502
DTEND;VALUE=DATE:20260503
TRANSP:TRANSPARENT
X-MICROSOFT-CDO-ALLDAYEVENT:TRUE
SUMMARY:Food\, Beer and Wine Festival in Georgetown
DESCRIPTION:Live music with N'Tranze and Country star Mary English!
X-ALT-DESC;FMTTYPE=text/html:Live music with N&#39\;Tranze and Country star Mary English!&nbsp\;
LOCATION:Maritime Park Front Street Georgetown\, SC
UID:e.157.25848
SEQUENCE:3
DTSTAMP:20260423T133439Z
URL:https://www.visitgeorge.com/events/details/food-beer-and-wine-festival-in-georgetown-05-02-2026-25848
END:VEVENT

END:VCALENDAR
