BEGIN:VCALENDAR
VERSION:2.0
PRODID:-//ChamberMaster//Event Calendar 2.0//EN
METHOD:PUBLISH
X-PUBLISHED-TTL:P3D
REFRESH-INTERVAL:P3D
CALSCALE:GREGORIAN
BEGIN:VEVENT
DTSTART:20210315T124500Z
DTEND:20210318T160000Z
X-MICROSOFT-CDO-ALLDAYEVENT:FALSE
SUMMARY:Employment Skills Training
DESCRIPTION:It is happening again!!  The Georgetown County Career Connections is hosting a virtual Employment Skills Training in a 4-day workshop Monday\, March 15 through Thursday\, March 18 from 8:45AM - 12PM.\n\n\n\nRegister for the event at https://www.helpinghandsofgeorgetown.org/programs/georgetown-career-connection-gc3/\, by emailing Mr. Teon Singletary at tsingletary@helpinghandsofgeorgetown.org\, or by messaging us on our Facebook page at Georgetown County Career Connections.\n\n\n\nJust as pre-Covid\, we are working to enhance career readiness\, resume writing\, interview techniques and networking skills.  We also offer in depth information and guidance for training and certification programs.    \n\n\n\n Visit www.palmettogoodwill.org/training to learn about training programs and certifications!
X-ALT-DESC;FMTTYPE=text/html:<span style="color:windowtext\;"><span style="font-family:times new roman\,serif\;">It is happening again!! &nbsp\;The <em>Georgetown County Career Connections</em> is hosting a virtual <em>Employment Skills Training</em> in a 4-day workshop Monday\, March 15 through Thursday\, March 18 from&nbsp\;8:45AM - 12PM.<br />\n<br />\nRegister for the event at&nbsp\;</span></span><a href="https://nam02.safelinks.protection.outlook.com/?url=https%3A%2F%2Fwww.helpinghandsofgeorgetown.org%2Fprograms%2Fgeorgetown-career-connection-gc3%2F&amp\;data=04%7C01%7C%7C619d444cb76a4825a7d308d8dcd6de25%7Ced04bbc619a24a13878cee0297c6e2da%7C0%7C0%7C637502163008866741%7CUnknown%7CTWFpbGZsb3d8eyJWIjoiMC4wLjAwMDAiLCJQIjoiV2luMzIiLCJBTiI6Ik1haWwiLCJXVCI6Mn0%3D%7C1000&amp\;sdata=DbjW%2BzrmzYvV5UJv8xVKR7WfAwuHX08BtpPGjumLums%3D&amp\;reserved=0" style="color: rgb(7\, 130\, 193)\; font-family: &quot\;times new roman&quot\;\, serif\; font-size: 13px\; background-color: rgb(255\, 255\, 255)\;" target="_blank">https://www.helpinghandsofgeorgetown.org/programs/georgetown-career-connection-gc3/</a>\,&nbsp\;<span style="color:windowtext\;"><span style="font-family:times new roman\,serif\;">by emailing&nbsp\;Mr. Teon Singletary at<a href="mailto:tsingletary@helpinghandsofgeorgetown.org" target="_blank"> tsingletary@helpinghandsofgeorgetown.org</a>\, or by messaging us on our Facebook page at <a href="https://www.facebook.com/GeorgetownC3/"><em>Georgetown County Career Connections</em></a>.</span></span><br />\n<br />\n<span style="color:windowtext\;"><span style="font-family:times new roman\,serif\;">Just as pre-Covid\, we are working to enhance career readiness\, resume writing\, interview techniques and networking skills.&nbsp\; We also offer in depth information and guidance for training and certification programs. &nbsp\;&nbsp\;&nbsp\;</span></span><br />\n<br />\n&nbsp\;<strong><span style="color:#1F497D\;"><span style="font-family:arial\,sans-serif\;">Visit </span></span></strong><span style="font-family:times new roman\,serif\;"><a href="https://nam02.safelinks.protection.outlook.com/?url=http%3A%2F%2Fwww.palmettogoodwill.org%2Ftraining&amp\;data=04%7C01%7C%7C619d444cb76a4825a7d308d8dcd6de25%7Ced04bbc619a24a13878cee0297c6e2da%7C0%7C0%7C637502163008876699%7CUnknown%7CTWFpbGZsb3d8eyJWIjoiMC4wLjAwMDAiLCJQIjoiV2luMzIiLCJBTiI6Ik1haWwiLCJXVCI6Mn0%3D%7C1000&amp\;sdata=EjDI7BIGp99tj6O9r4JXjgA1gLJ5g1nZjnjiRkYNQAk%3D&amp\;reserved=0" target="_blank"><strong><span style="color:blue\;"><span style="font-family:arial\,sans-serif\;">www.palmettogoodwill.org/training</span></span></strong></a></span><strong><span style="color:#1F497D\;"><span style="font-family:arial\,sans-serif\;"> to learn about training programs and certifications!</span></span></strong><br />\n&nbsp\;
LOCATION:Virtual
UID:e.157.11833
SEQUENCE:3
DTSTAMP:20260423T161834Z
URL:https://www.visitgeorge.com/events/details/employment-skills-training-03-15-2021-11833
END:VEVENT

END:VCALENDAR
