BEGIN:VCALENDAR
VERSION:2.0
PRODID:-//ChamberMaster//Event Calendar 2.0//EN
METHOD:PUBLISH
X-PUBLISHED-TTL:P3D
REFRESH-INTERVAL:P3D
CALSCALE:GREGORIAN
BEGIN:VEVENT
DTSTART:20210316T140000Z
DTEND:20210316T180000Z
X-MICROSOFT-CDO-ALLDAYEVENT:FALSE
SUMMARY:Drive-thru Job Fair
DESCRIPTION:Drive-thru Job Fair where job seekers will collect a bag of job opportunities from their car!
X-ALT-DESC;FMTTYPE=text/html:Drive-thru Job Fair where j<span style="color: rgb(5\, 5\, 5)\; font-family: &quot\;Segoe UI Historic&quot\;\, &quot\;Segoe UI&quot\;\, Helvetica\, Arial\, sans-serif\; font-size: 15px\; white-space: pre-wrap\; background-color: rgb(255\, 255\, 255)\;">ob seekers will collect a bag of job opportunities from their car!</span>
LOCATION:Myrtle Beach Pelicans Ballpark rear parking lot 1251 21st Avenue North Myrtle Beach\, SC
UID:e.157.11849
SEQUENCE:3
DTSTAMP:20260423T161722Z
URL:https://www.visitgeorge.com/events/details/drive-thru-job-fair-11849
END:VEVENT

END:VCALENDAR
