BEGIN:VCALENDAR
VERSION:2.0
PRODID:-//ChamberMaster//Event Calendar 2.0//EN
METHOD:PUBLISH
X-PUBLISHED-TTL:P3D
REFRESH-INTERVAL:P3D
CALSCALE:GREGORIAN
BEGIN:VEVENT
DTSTART:20210314T010000Z
DTEND:20210314T023000Z
X-MICROSOFT-CDO-ALLDAYEVENT:FALSE
SUMMARY:CSN Express
DESCRIPTION:CSN Express takes the audience on a musical journey that follows the career of Crosby\, Stills & Nash over five decades. You will see and hear the groups different phases\, from their debut at the 1969 Woodstock Festival\, to their collaboration with Neil Young and on to their induction into the Rock & Roll Hall Of Fame.This show captures the true music and vocal harmonies of Crosby\, Stills & Nash. With clever dialogue and well composed medleys\, this show delivers plenty of powerful music moments that always brings the audience to their feet clapping and singing along to their favorite songs.
X-ALT-DESC;FMTTYPE=text/html:CSN Express takes the audience on a musical journey that follows the career of Crosby\, Stills &amp\; Nash over five decades. You will see and hear the groups different phases\, from their debut at the 1969 Woodstock Festival\, to their collaboration with Neil Young and on to their induction into the Rock &amp\; Roll Hall Of Fame.This show captures the true music and vocal harmonies of Crosby\, Stills &amp\; Nash. With clever dialogue and well composed medleys\, this show delivers plenty of powerful music moments that always brings the audience to their feet clapping and singing along to their favorite songs.
LOCATION:The Carolina Opry Theater
UID:e.157.11825
SEQUENCE:3
DTSTAMP:20260423T161704Z
URL:https://www.visitgeorge.com/events/details/csn-express-03-13-2021-11825
END:VEVENT

END:VCALENDAR
