BEGIN:VCALENDAR
VERSION:2.0
PRODID:-//ChamberMaster//Event Calendar 2.0//EN
METHOD:PUBLISH
X-PUBLISHED-TTL:P3D
REFRESH-INTERVAL:P3D
CALSCALE:GREGORIAN
BEGIN:VEVENT
DTSTART:20260508T120000Z
DTEND:20260508T130000Z
X-MICROSOFT-CDO-ALLDAYEVENT:FALSE
SUMMARY:Coffee and Contacts: Hosted by Georgetown Chamber of Commerce
DESCRIPTION:Start your day with great connections! Join fellow Georgetown County Chamber members for Coffee and Contacts\, hosted by the Georgetown County Chamber of Commerce.\n\n\n\nWe'll have the coffee ready just bring your latest business updates and a little about you. Bring your business cards and come ready to connect.\n\n\n\nREGISTRATION REQUIRED.  Limited to the first 20 registrants.
X-ALT-DESC;FMTTYPE=text/html:<span style="font-size:18px\;">Start your day with great connections! Join fellow Georgetown County Chamber members for Coffee and Contacts\, hosted by the Georgetown County Chamber of Commerce.<br />\n<br />\nWe&rsquo\;ll have the coffee ready&mdash\;just bring your latest business updates and a little about you. Bring your business cards and come ready to connect.</span><br />\n<br />\n<strong style="text-align: center\; font-family: tahoma\; font-size: 14px\;">REGISTRATION REQUIRED.&nbsp\;&nbsp\;<span style="color: rgb(255\, 0\, 0)\;">Limited to the first 20 registrants.</span></strong>
LOCATION:Litchfield Chamber Office 28 Wall St. Pawleys Island\, SC 29585
UID:e.157.26680
SEQUENCE:3
DTSTAMP:20260421T180454Z
URL:https://www.visitgeorge.com/events/details/coffee-and-contacts-hosted-by-georgetown-chamber-of-commerce-26680
END:VEVENT

END:VCALENDAR
