BEGIN:VCALENDAR
VERSION:2.0
PRODID:-//ChamberMaster//Event Calendar 2.0//EN
METHOD:PUBLISH
X-PUBLISHED-TTL:P3D
REFRESH-INTERVAL:P3D
CALSCALE:GREGORIAN
BEGIN:VEVENT
DTSTART;VALUE=DATE:20210109
DTEND;VALUE=DATE:20210401
TRANSP:TRANSPARENT
X-MICROSOFT-CDO-ALLDAYEVENT:TRUE
SUMMARY:Black Southern Belles Exhibit at Brookgreen Gardens
DESCRIPTION:Internationally acclaimed Gullah Artist\, Speaker\, and Pan African Cultural Heritage Institute Fellow\, Sonja Griffin Evans was born and raised in Beaufort\, South Carolina. She is a true product of the the Lowcountry\, an area of the South that prides itself on its ability to preserve its culture and heritage. The Lowcountry has been an incredible influence on Sonja's artwork\, giving her inspiration and an uncanny ability to capture the beauty\, spirituality and a pure representation of the Gullah Sea Island and African American culture.\n\nAs a prolific mixed media artist\, Sonja incorporates tin\, wood and other materials in her art\, while using vibrant colors on canvas\, which are indicative of what has been acknowledged as the traditional Gullah style. In both mediums\, she is careful about how she expresses her culture\, so that it is represented in its purest form.\n\nKnown for her ability to see the beauty in a variety of forms\, she unveils alluring stories that each piece holds within them by creating a reflection of the deep spirituality of the people of African descent. With her unique use of color and perspectives within her work\, Griffin Evans' artwork is constantly evolving.
X-ALT-DESC;FMTTYPE=text/html:<p style="box-sizing: border-box\; margin: 1.25rem 0px\; line-height: 1.4\; color: rgb(18\, 35\, 1)\; font-family: Roboto\, Helvetica\, Arial\, sans-serif\; font-size: 16px\; background-color: rgb(255\, 255\, 255)\;">Internationally acclaimed Gullah Artist\, Speaker\, and Pan African Cultural Heritage Institute Fellow\, Sonja Griffin Evans was born and raised in Beaufort\, South Carolina. She is a&nbsp\;true product of the the Lowcountry\, an area of the South that prides itself on its ability to preserve its culture and heritage. The Lowcountry has been an incredible influence on Sonja&#39\;s artwork\, giving her inspiration and an uncanny ability to capture the beauty\, spirituality and a pure representation of the Gullah Sea Island and African American culture.</p>\n\n<p style="box-sizing: border-box\; margin: 1.25rem 0px\; line-height: 1.4\; color: rgb(18\, 35\, 1)\; font-family: Roboto\, Helvetica\, Arial\, sans-serif\; font-size: 16px\; background-color: rgb(255\, 255\, 255)\;">As a prolific mixed media artist\, Sonja incorporates tin\, wood and other materials in her art\, while using vibrant colors on canvas\, which are indicative of what has been acknowledged as the traditional Gullah style. In both mediums\, she is careful about how she expresses her culture\, so that it is represented in its purest form.</p>\n\n<p style="box-sizing: border-box\; margin: 1.25rem 0px\; line-height: 1.4\; color: rgb(18\, 35\, 1)\; font-family: Roboto\, Helvetica\, Arial\, sans-serif\; font-size: 16px\; background-color: rgb(255\, 255\, 255)\;">Known for her ability to see the beauty in a variety of forms\, she unveils alluring stories that each piece holds within them by creating a reflection of the deep spirituality of the people of African descent. With her unique use of color and perspectives within her work\, Griffin Evans&#39\; artwork is constantly evolving.</p>\n
LOCATION:Brookgreen Gardens Murrells Inlet\, SC
UID:e.157.10658
SEQUENCE:3
DTSTAMP:20260423T162542Z
URL:https://www.visitgeorge.com/events/details/black-southern-belles-exhibit-at-brookgreen-gardens-10658
END:VEVENT

END:VCALENDAR
