BEGIN:VCALENDAR
VERSION:2.0
PRODID:-//ChamberMaster//Event Calendar 2.0//EN
METHOD:PUBLISH
X-PUBLISHED-TTL:P3D
REFRESH-INTERVAL:P3D
CALSCALE:GREGORIAN
BEGIN:VEVENT
DTSTART:20210313T210000Z
DTEND:20210313T230000Z
X-MICROSOFT-CDO-ALLDAYEVENT:FALSE
SUMMARY:Beaks and Brushes at Ripleys Aquarium!
DESCRIPTION:BEAKS & BRUSHES\n\nJoin us for a unique painting class at Ripley's Aquarium of Myrtle Beach. Led by a painting instructor\, you will be provided everything you need to create your very own work of art. Relax and enjoy a glass of wine as you create your own marine-themed canvas.\n\nNeed some aquatic inspiration? Swim on by before the 4:00 p.m. start time and enjoy the colorful views of our underwater world.\n\nPlease note that this class takes place in the Penguin Playhouse guest viewing area\, and for the safety of the penguins\, they will not be present in the painting room.
X-ALT-DESC;FMTTYPE=text/html:<h3 id="h3-headers" style="box-sizing: border-box\; vertical-align: baseline\; font-family: festivo_lcmini\; font-size: 50px\; outline: 0px\; padding: 0px\; margin: 0px 0px 8px\; border: 0px\; line-height: 50px\; color: rgb(68\, 68\, 68)\; letter-spacing: 2px\; -webkit-font-smoothing: antialiased\; text-transform: uppercase\; background-color: rgb(255\, 255\, 255)\;"><span style="font-size:14px\;"><span style="box-sizing: border-box\; vertical-align: baseline\; font-family: inherit\; font-weight: inherit\; font-style: inherit\; outline: 0px\; padding: 0px\; margin: 0px\; border: 0px\; color: rgb(0\, 0\, 0)\;">BEAKS &amp\; BRUSHES</span></span></h3>\n\n<p -webkit-font-smoothing:="" 0px="" background-color:="" border:="" color:="" font-size:="" margin:="" open="" outline:="" padding:="" style="box-sizing: border-box\; vertical-align: baseline\; font-family: "><span style="box-sizing: border-box\; vertical-align: baseline\; font-family: inherit\; font-weight: inherit\; font-style: inherit\; outline: 0px\; padding: 0px\; margin: 0px\; border: 0px\; color: rgb(0\, 0\, 0)\;">Join us for a unique painting class at Ripley&rsquo\;s Aquarium of Myrtle Beach. Led by a painting instructor\, you will be provided everything you need to create your very own work of art. Relax and enjoy a glass of wine as you create your own marine-themed canvas.</span></p>\n\n<p -webkit-font-smoothing:="" 0px="" background-color:="" border:="" color:="" font-size:="" margin:="" open="" outline:="" padding:="" style="box-sizing: border-box\; vertical-align: baseline\; font-family: "><span style="box-sizing: border-box\; vertical-align: baseline\; font-family: inherit\; font-weight: inherit\; font-style: inherit\; outline: 0px\; padding: 0px\; margin: 0px\; border: 0px\; color: rgb(0\, 0\, 0)\;">Need some aquatic inspiration? Swim on by before the 4:00 p.m. start time and enjoy the colorful views of our underwater world.</span></p>\n\n<p -webkit-font-smoothing:="" 0px="" background-color:="" border:="" color:="" font-size:="" margin:="" open="" outline:="" padding:="" style="box-sizing: border-box\; vertical-align: baseline\; font-family: "><span style="box-sizing: border-box\; vertical-align: baseline\; font-family: inherit\; font-weight: inherit\; font-style: inherit\; outline: 0px\; padding: 0px\; margin: 0px\; border: 0px\; color: rgb(0\, 0\, 0)\;"><em style="box-sizing: border-box\; vertical-align: baseline\; font-family: inherit\; font-weight: inherit\; outline: 0px\; padding: 0px\; margin: 0px\; border: 0px\;">Please note that this class takes place in the Penguin Playhouse guest viewing area\, and for the safety of the penguins\, they will not be present in the painting room.</em></span></p>\n
LOCATION:Ripleys Aquarium Broadway at the Beach 1110 Celebrity Circle Myrtle Beach\, SC
UID:e.157.11822
SEQUENCE:3
DTSTAMP:20260423T161952Z
URL:https://www.visitgeorge.com/events/details/beaks-and-brushes-at-ripleys-aquarium-11822
END:VEVENT

END:VCALENDAR
