BEGIN:VCALENDAR
VERSION:2.0
PRODID:-//ChamberMaster//Event Calendar 2.0//EN
METHOD:PUBLISH
X-PUBLISHED-TTL:P3D
REFRESH-INTERVAL:P3D
CALSCALE:GREGORIAN
BEGIN:VEVENT
DTSTART:20260503T140000Z
DTEND:20260503T200000Z
X-MICROSOFT-CDO-ALLDAYEVENT:FALSE
SUMMARY:34th Annual Spring Tide Community Clean-Up and Chowder Cookoff!
DESCRIPTION:Join Murrells Inlet 2020 for the 34th Annual Spring Tide Community Clean-Up & Chowder Cook-Off! This family-friendly event begins at 10AM at Morse Park Landing (next to Hot Fish Club) and ends with a Chowder Cook-Off at Hot Fish Club! This event is always a fun time and is a great way to support your community. In 2025\, we cleaned up over 10 THOUSAND POUNDS of trash! Clean up your community and follow it up with some delicious local chowder. All volunteers are welcome to join us after clean-up for the chowder cook-off\, Danny's BBQ\, live music\, and libations! All supplies will be provided. No need to sign-up ahead of time\, just show up the day of with your reusable water bottle and comfortable shoes!
X-ALT-DESC;FMTTYPE=text/html:Join <a href="https://murrellsinletsc.com/">Murrells Inlet 2020</a> for the 34th Annual Spring Tide Community Clean-Up &amp\; Chowder Cook-Off! This family-friendly event begins at 10AM at Morse Park Landing (next to Hot Fish Club) and ends with a Chowder Cook-Off at Hot Fish Club! This event is always a fun time and is a great way to support your community. In 2025\, we cleaned up over 10 THOUSAND POUNDS of trash! Clean up your community and follow it up with some delicious local chowder. All volunteers are welcome to join us after clean-up for the chowder cook-off\, Danny&#39\;s BBQ\, live music\, and libations! All supplies will be provided. No need to sign-up ahead of time\, just show up the day of with your reusable water bottle and comfortable shoes!
LOCATION:Morse Park Landing (next to Hot Fish Club) Murrells Inlet\, SC
UID:e.157.26235
SEQUENCE:3
DTSTAMP:20260423T134003Z
URL:https://www.visitgeorge.com/events/details/34th-annual-spring-tide-community-clean-up-and-chowder-cookoff-26235
END:VEVENT

END:VCALENDAR
